BEGIN:VCALENDAR
VERSION:2.0
PRODID:-//Eventin//Event Calendar//EN
CALSCALE:GREGORIAN
METHOD:PUBLISH
BEGIN:VEVENT
UID:bd4d9156df64cf2c99c04a0178967d61@psimph.org
SUMMARY:Cebu Inhenyero Mekanikal Conference 2026 (CebIMCon 2026)
DESCRIPTION:
LOCATION:Golden Peak Hotel & Suites\, Cebu City
DTSTAMP:20260423T150218Z
DTSTART:20260515T000000Z
DTEND:20260517T090000Z
END:VEVENT
END:VCALENDAR
